View In:
ArcGIS JavaScript
ArcGIS Online Map Viewer
ArcGIS Earth
Service Description: CountyImagery/CountyAerial1952
Name: CountyImagery/CountyAerial1952
Description:
Single Fused Map Cache: true
Tile Info:
- Height: 256
- Width: 256
- DPI: 96
-
Levels of Detail: 9
- Format: JPEG
- Compression Quality: 90.0
- LERC Error: NaN
- Origin: X: -1.186089E8
Y: 1.590816E8
- Spatial Reference: 102646
(2230)
Storage Info:
- Storage Format: esriMapCacheStorageModeCompactV2
- Packet Size: 128
Extent:
XMin: 6031884.017027408
YMin: 2139607.484805725
XMax: 6104976.017027408
YMax: 2207443.484805725
Spatial Reference: 102646
(2230)
Initial Extent:
XMin: 6031884.017027408
YMin: 2139607.484805725
XMax: 6104976.017027408
YMax: 2207443.484805725
Spatial Reference: 102646
(2230)
Full Extent:
XMin: 6031884.017027408
YMin: 2139607.484805725
XMax: 6104976.017027408
YMax: 2207443.484805725
Spatial Reference: 102646
(2230)
Pixel Size X: 3.0
Pixel Size Y: 3.0
Band Count: 4
Pixel Type: U8
RasterFunction Infos: {"rasterFunctionInfos": [{
"name": "None",
"description": "",
"help": ""
}]}
Mensuration Capabilities: Basic
Inspection Capabilities:
Has Histograms: true
Has Colormap: false
Has Multi Dimensions : false
Rendering Rule:
Min Scale: 85000
Max Scale: 240
Min LOD: 0
Max LOD: 6
Copyright Text:
Service Data Type: esriImageServiceDataTypeGeneric
Min Values: 1, 1, 1, 1
Max Values: 254, 254, 254, 254
Mean Values: 85.64440552456657, 85.64440552456657, 85.64440552456657, 85.64440552456657
Standard Deviation Values: 54.20623172864628, 54.20623172864628, 54.20623172864628, 54.20623172864628
Object ID Field:
Fields:
None
Default Mosaic Method: Center
Allowed Mosaic Methods:
SortField:
SortValue: null
Mosaic Operator: First
Default Compression Quality: 75
Default Resampling Method: Bilinear
Max Record Count: null
Max Image Height: 4100
Max Image Width: 15000
Max Download Image Count: null
Max Mosaic Image Count: null
Allow Raster Function: true
Allow Copy: true
Allow Analysis: true
Allow Compute TiePoints: false
Supports Statistics: false
Supports Advanced Queries: false
Use StandardizedQueries: true
Raster Type Infos:
Name: Raster Dataset
Description: Supports all ArcGIS Raster Datasets
Help:
Has Raster Attribute Table: false
Edit Fields Info: null
Ownership Based AccessControl For Rasters: null
Child Resources:
Info
Histograms
Statistics
Key Properties
Legend
Raster Function Infos
Supported Operations:
Export Image
Identify
Measure
Compute Histograms
Compute Statistics Histograms
Get Samples
Compute Class Statistics
Query Boundary
Compute Pixel Location
Compute Angles
Validate
Project