View In:
ArcGIS JavaScript
ArcGIS Online Map Viewer
ArcGIS Earth
Service Description: CountyImagery/CountyAerial1980
Name: CountyImagery/CountyAerial1980
Description:
Single Fused Map Cache: true
Tile Info:
- Height: 256
- Width: 256
- DPI: 96
-
Levels of Detail: 9
- Format: JPEG
- Compression Quality: 90.0
- LERC Error: NaN
- Origin: X: -1.186089E8
Y: 1.590816E8
- Spatial Reference: 102646
(2230)
Storage Info:
- Storage Format: esriMapCacheStorageModeCompactV2
- Packet Size: 128
Extent:
XMin: 6037678.776713818
YMin: 2150126.1602101955
XMax: 6097484.776713818
YMax: 2199348.1602101955
Spatial Reference: 102646
(2230)
Initial Extent:
XMin: 6037678.776713818
YMin: 2150126.1602101955
XMax: 6097484.776713818
YMax: 2199348.1602101955
Spatial Reference: 102646
(2230)
Full Extent:
XMin: 6037678.776713818
YMin: 2150126.1602101955
XMax: 6097484.776713818
YMax: 2199348.1602101955
Spatial Reference: 102646
(2230)
Pixel Size X: 2.0
Pixel Size Y: 2.0
Band Count: 4
Pixel Type: U8
RasterFunction Infos: {"rasterFunctionInfos": [{
"name": "None",
"description": "",
"help": ""
}]}
Mensuration Capabilities: Basic
Inspection Capabilities:
Has Histograms: true
Has Colormap: false
Has Multi Dimensions : false
Rendering Rule:
Min Scale: 85000
Max Scale: 240
Min LOD: 0
Max LOD: 6
Copyright Text:
Service Data Type: esriImageServiceDataTypeGeneric
Min Values: 0, 0, 1, 0
Max Values: 254, 254, 254, 254
Mean Values: 99.01102953852349, 99.01102953852349, 104.83989124017647, 99.01102953852349
Standard Deviation Values: 64.06970421423661, 64.06970421423661, 61.11876109034677, 64.06970421423661
Object ID Field:
Fields:
None
Default Mosaic Method: Center
Allowed Mosaic Methods:
SortField:
SortValue: null
Mosaic Operator: First
Default Compression Quality: 75
Default Resampling Method: Bilinear
Max Record Count: null
Max Image Height: 4100
Max Image Width: 15000
Max Download Image Count: null
Max Mosaic Image Count: null
Allow Raster Function: true
Allow Copy: true
Allow Analysis: true
Allow Compute TiePoints: false
Supports Statistics: false
Supports Advanced Queries: false
Use StandardizedQueries: true
Raster Type Infos:
Name: Raster Dataset
Description: Supports all ArcGIS Raster Datasets
Help:
Has Raster Attribute Table: false
Edit Fields Info: null
Ownership Based AccessControl For Rasters: null
Child Resources:
Info
Histograms
Statistics
Key Properties
Legend
Raster Function Infos
Supported Operations:
Export Image
Identify
Measure
Compute Histograms
Compute Statistics Histograms
Get Samples
Compute Class Statistics
Query Boundary
Compute Pixel Location
Compute Angles
Validate
Project